BEGIN:VCALENDAR
VERSION:2.0
PRODID:-//Mahindians UAE - ECPv6.15.16//NONSGML v1.0//EN
CALSCALE:GREGORIAN
METHOD:PUBLISH
X-WR-CALNAME:Mahindians UAE
X-ORIGINAL-URL:https://mahindiansuae.org
X-WR-CALDESC:Events for Mahindians UAE
REFRESH-INTERVAL;VALUE=DURATION:PT1H
X-Robots-Tag:noindex
X-PUBLISHED-TTL:PT1H
BEGIN:VTIMEZONE
TZID:Asia/Dubai
BEGIN:STANDARD
TZOFFSETFROM:+0400
TZOFFSETTO:+0400
TZNAME:+04
DTSTART:20250101T000000
END:STANDARD
END:VTIMEZONE
BEGIN:VEVENT
DTSTART;TZID=Asia/Dubai:20260214T090000
DTEND;TZID=Asia/Dubai:20260214T190000
DTSTAMP:20260424T023737
CREATED:20260217T121110Z
LAST-MODIFIED:20260217T121452Z
UID:13634-1771059600-1771095600@mahindiansuae.org
SUMMARY:Joe-Pete Big Match
DESCRIPTION:Past pupils of two of Sri Lanka’s proud Catholic institutions\, St. Joseph’s College and St. Peter’s College\, came together for the thrilling Joe–Pete 9th Encounter – UAE\, held at the Seven District Stadium\, Ajman. Josephians and Peterites filled the grounds with vibrant colours\, passionate cheers\, and unforgettable energy\, celebrating a day of true brotherhood\, sportsmanship\, and the enduring spirit of their historic cricket rivalry.
URL:https://mahindiansuae.org/event-calendar/joe-pete-big-match-2026/
LOCATION:Seven District Stadium\, Ajman\, United Arab Emirates
CATEGORIES:Cricket,Sport
END:VEVENT
BEGIN:VEVENT
DTSTART;TZID=Asia/Dubai:20260215T090000
DTEND;TZID=Asia/Dubai:20260215T190000
DTSTAMP:20260424T023737
CREATED:20260217T115822Z
LAST-MODIFIED:20260217T115822Z
UID:13628-1771146000-1771182000@mahindiansuae.org
SUMMARY:Battle of the Maroons
DESCRIPTION:Past pupils of two of Sri Lanka’s most distinguished brother schools\, Ananda College and Nalanda College\, presently residing in the United Arab Emirates\, will once again unite to stage the annual Battle of the Maroons Cricket Carnival on Sunday\, February 15 2026\, at the Royal Sports Club Cricket Ground\, Ajman\, UAE. This year’s event marks the 16th consecutive edition of this prestigious inter-school sporting encounter.
URL:https://mahindiansuae.org/event-calendar/battle-of-the-maroons-2026/
LOCATION:The Royal Sports Club\, The Royal Sports Club\, Ajman\, United Arab Emirates
CATEGORIES:Cricket,Sport
END:VEVENT
BEGIN:VEVENT
DTSTART;TZID=Asia/Dubai:20260306T193000
DTEND;TZID=Asia/Dubai:20260306T193000
DTSTAMP:20260424T023737
CREATED:20260225T131635Z
LAST-MODIFIED:20260225T131815Z
UID:13687-1772825400-1772825400@mahindiansuae.org
SUMMARY:Sri Lankan - Inter School 8 Ball Pool Tournament
DESCRIPTION:The Sri Lankan Inter-School 8 Ball Pool Tournament\, organised by the past pupils of D. S. Senanayake College Old Boys’ Association\, will be held on March 6\, 2026\, at QREW Billiard Hall & Arcade\, Al Mamzar Bowling Centre. Bringing together old boys and cue sports enthusiasts from Sri Lankan schools across the UAE\, this evening event promises friendly competition\, camaraderie\, and an opportunity to strengthen bonds within the vibrant Sri Lankan alumni community.
URL:https://mahindiansuae.org/event-calendar/sri-lankan-inter-school-8-ball-pool-tournament/
LOCATION:Dubai International Bowling Centre\, Dubai International Bowling Centre\, Dubai\, United Arab Emirates
CATEGORIES:Sport
ATTACH;FMTTYPE=image/jpeg:https://mahindiansuae.org/wp-content/uploads/2026/02/WhatsApp-Image-2026-02-21-at-10.24.38-PM.jpeg
END:VEVENT
BEGIN:VEVENT
DTSTART;TZID=Asia/Dubai:20260314T180000
DTEND;TZID=Asia/Dubai:20260314T230000
DTSTAMP:20260424T023737
CREATED:20260217T122638Z
LAST-MODIFIED:20260220T045645Z
UID:13643-1773511200-1773529200@mahindiansuae.org
SUMMARY:Battle of the Maroons
DESCRIPTION:Past pupils of two of Kandy’s historic rival schools\, Kingswood College and Dharmaraja College\, will gather in the United Arab Emirates for the much-anticipated Battle of the Maroons. More than just a game\, this cherished encounter represents a proud tradition of sportsmanship\, friendship\, and lifelong memories. The event will take place on Saturday\, March 14\, 2026\, from 6:00 pm onwards at Eagle’s Cricket Ground\, Sharjah\, bringing together Rajans and Kingswoodians for an evening of unity\, nostalgia\, and spirited cricket.
URL:https://mahindiansuae.org/event-calendar/battle-of-the-maroons/
LOCATION:Eagles Cricket Ground\, Eagles Cricket Ground\, Sharjah\, United Arab Emirates
CATEGORIES:Cricket
ATTACH;FMTTYPE=image/jpeg:https://mahindiansuae.org/wp-content/uploads/2026/02/WhatsApp-Image-2026-02-19-at-10.39.07-PM.jpeg
END:VEVENT
BEGIN:VEVENT
DTSTART;TZID=Asia/Dubai:20260320T193000
DTEND;TZID=Asia/Dubai:20260320T233000
DTSTAMP:20260424T023737
CREATED:20260305T042630Z
LAST-MODIFIED:20260305T042630Z
UID:13695-1774035000-1774049400@mahindiansuae.org
SUMMARY:Overseas Mahindians Night
DESCRIPTION:“Overseas Mahindians Night” is a special fellowship event jointly organised by Mahindians-UAE and Mahinda Club\, bringing together Mahindians from across borders for an evening of camaraderie and celebration. Held on Friday\, March 20\, 2026\, at Pengerihena Resort (Highway Entrance) from 7:30 pm onwards\, this memorable gathering serves as a side event to the big match\, offering a live dinner buffet\, free flow of beverages\, and music in a smart dress setting—creating the perfect atmosphere for reconnecting and celebrating the proud Mahinda spirit.
URL:https://mahindiansuae.org/event-calendar/overseas-mahindians-night/
LOCATION:Pengerihena Resort\, Pengerihena Resort\, Galle\, Southern\, Sri Lanka
CATEGORIES:Social
ATTACH;FMTTYPE=image/jpeg:https://mahindiansuae.org/wp-content/uploads/2026/03/WhatsApp-Image-2026-03-03-at-9.46.29-PM.jpeg
END:VEVENT
BEGIN:VEVENT
DTSTART;TZID=Asia/Dubai:20260329T080000
DTEND;TZID=Asia/Dubai:20260329T220000
DTSTAMP:20260424T023737
CREATED:20260217T122954Z
LAST-MODIFIED:20260225T130428Z
UID:13645-1774771200-1774821600@mahindiansuae.org
SUMMARY:Olcott Memorial Cricket Tournament
DESCRIPTION:The 17th Sir Henry Steel Olcott Schools Cricket Tournament\, organised by Olcott Alumni UAE\, will be held on Sunday\, March 29\, 2026\, in the United Arab Emirates. This much-anticipated event has become a regular highlight in the local cricket calendar\, bringing together old boys from eight Olcott Schools along with Sri Lankan cricket enthusiasts across the UAE. Played in an exciting round-robin format\, the tournament celebrates unity\, sportsmanship\, and the enduring Olcott spirit among the Sri Lankan community.
URL:https://mahindiansuae.org/event-calendar/olcott-memorial-cricket-tournament/
LOCATION:Eagles Cricket Ground\, Eagles Cricket Ground\, Sharjah\, United Arab Emirates
CATEGORIES:Cricket
ATTACH;FMTTYPE=image/jpeg:https://mahindiansuae.org/wp-content/uploads/2026/02/WhatsApp-Image-2026-02-25-at-9.44.25-AM.jpeg
END:VEVENT
BEGIN:VEVENT
DTSTART;TZID=Asia/Dubai:20260404T080000
DTEND;TZID=Asia/Dubai:20260404T210000
DTSTAMP:20260424T023737
CREATED:20260217T123726Z
LAST-MODIFIED:20260220T045715Z
UID:13650-1775289600-1775336400@mahindiansuae.org
SUMMARY:Double Blue Cricket Fiesta
DESCRIPTION:The Double Blue Cricket Fiesta 2026 will take place on Saturday\, April 4\, 2026\, in the United Arab Emirates\, bringing together past pupils and cricket enthusiasts for an exciting Inter-School 8-A-Side Softball Cricket Tournament. Proudly organised by Wesley College Alumni – Middle East (UAE)\, this lively sporting event celebrates fellowship\, teamwork\, and the proud Double Blue spirit\, promising a day filled with friendly competition\, camaraderie\, and memorable moments for the Sri Lankan school community in the UAE.
URL:https://mahindiansuae.org/event-calendar/double-blue-cricket-fiesta/
LOCATION:Southern
CATEGORIES:Cricket
ATTACH;FMTTYPE=image/jpeg:https://mahindiansuae.org/wp-content/uploads/2026/02/615420251_872386342347357_732776235419322499_n.jpg
END:VEVENT
BEGIN:VEVENT
DTSTART;TZID=Asia/Dubai:20260404T100000
DTEND;TZID=Asia/Dubai:20260404T170000
DTSTAMP:20260424T023737
CREATED:20260217T124445Z
LAST-MODIFIED:20260217T124459Z
UID:13653-1775296800-1775322000@mahindiansuae.org
SUMMARY:Royal Thomian Big Match
DESCRIPTION:
URL:https://mahindiansuae.org/event-calendar/royal-thomian-big-match/
LOCATION:Southern
CATEGORIES:Cricket
END:VEVENT
BEGIN:VEVENT
DTSTART;TZID=Asia/Dubai:20260502T180000
DTEND;TZID=Asia/Dubai:20260502T230000
DTSTAMP:20260424T023737
CREATED:20260217T124924Z
LAST-MODIFIED:20260217T124924Z
UID:13658-1777744800-1777762800@mahindiansuae.org
SUMMARY:Richmond Mahinda Big Match
DESCRIPTION:Past pupils of two of Galle’s most celebrated rival schools\, Richmond College and Mahinda College\, will come together for the 16th edition of the “Lovers’ Quarrel” in the United Arab Emirates on May 2\, 2026. Played in an exciting T20 format\, the event will feature both 1st XI and 2nd XI matches\, bringing Richmondites and Mahindians together for a spirited day of cricket\, camaraderie\, and the continuation of one of Sri Lanka’s most cherished school cricket rivalries.
URL:https://mahindiansuae.org/event-calendar/richmond-mahinda-big-match/
LOCATION:Southern
CATEGORIES:Cricket
END:VEVENT
BEGIN:VEVENT
DTSTART;TZID=Asia/Dubai:20260509T100000
DTEND;TZID=Asia/Dubai:20260509T170000
DTSTAMP:20260424T023737
CREATED:20260217T125827Z
LAST-MODIFIED:20260217T125844Z
UID:13662-1778320800-1778346000@mahindiansuae.org
SUMMARY:Olcott Schools Legends Match
DESCRIPTION:A special highlight of the day will be the Legends Match between the visiting Sri Lankan Olcott Schools Legends and the UAE Olcott Schools Legends\, competing for the prestigious Bandula Warnapura Memorial Trophy. Organised by Olcott Alumni UAE\, this much-awaited encounter will take place on Saturday\, May 9\, 2026\, in an exciting T20 format. The event honours the legacy of Bandula Warnapura while bringing together former players and cricket lovers for a memorable day of nostalgia\, sportsmanship\, and true Olcott spirit.
URL:https://mahindiansuae.org/event-calendar/olcott-schools-legends-match-2026/
LOCATION:Southern
CATEGORIES:Cricket
END:VEVENT
BEGIN:VEVENT
DTSTART;TZID=Asia/Dubai:20260516T143000
DTEND;TZID=Asia/Dubai:20260516T210000
DTSTAMP:20260424T023737
CREATED:20260219T045609Z
LAST-MODIFIED:20260219T060411Z
UID:13677-1778941800-1778965200@mahindiansuae.org
SUMMARY:Battle of The GOLDS
DESCRIPTION:Past pupils of two of Colombo’s distinguished schools\, D. S. Senanayake College and Mahanama College\, will come together for the Battle of the Golds in the United Arab Emirates on Saturday\, May 16\, 2026. This much-anticipated encounter celebrates tradition\, friendship\, and sportsmanship\, bringing together old boys and supporters for a memorable day of cricket and fellowship while honouring the proud Golds spirit.
URL:https://mahindiansuae.org/event-calendar/battle-of-the-golds/
LOCATION:Southern
CATEGORIES:Cricket
END:VEVENT
BEGIN:VEVENT
DTSTART;TZID=Asia/Dubai:20260606T200000
DTEND;TZID=Asia/Dubai:20260607T030000
DTSTAMP:20260424T023737
CREATED:20260217T130309Z
LAST-MODIFIED:20260217T130309Z
UID:13664-1780776000-1780801200@mahindiansuae.org
SUMMARY:Maroons Night UAE
DESCRIPTION:Maroons Night UAE 2026 is a prestigious annual Dinner Dance and one of the most anticipated highlights of the Sri Lankan social calendar in Dubai. Organised jointly by the past pupils of Ananda College and Nalanda College\, this elegant gathering will be held on Saturday\, June 6\, 2026\, bringing together Anandians and Naladians for an unforgettable evening of fellowship\, celebration\, and the proud Maroon spirit.
URL:https://mahindiansuae.org/event-calendar/maroons-night-uae-2026/
LOCATION:Southern
CATEGORIES:Social
END:VEVENT
BEGIN:VEVENT
DTSTART;TZID=Asia/Dubai:20260620T090000
DTEND;TZID=Asia/Dubai:20260620T210000
DTSTAMP:20260424T023737
CREATED:20260218T051038Z
LAST-MODIFIED:20260218T051108Z
UID:13666-1781946000-1781989200@mahindiansuae.org
SUMMARY:Peterite Indoor Sports Carnival
DESCRIPTION:The Peterite Indoor Sports Carnival 2026\, organised by the past pupils of St. Peter’s College Old Boys’ Association\, will be held on Saturday\, June 20\, 2026\, in the United Arab Emirates. This fun-filled sporting event will bring together Peterites and their families for a day of friendly indoor competitions\, teamwork\, and fellowship\, celebrating the strong bonds and proud traditions of the Peterite community.
URL:https://mahindiansuae.org/event-calendar/peterite-indoor-sports-carnival-2026/
LOCATION:Southern
CATEGORIES:Sport
END:VEVENT
END:VCALENDAR