BEGIN:VCALENDAR
VERSION:2.0
PRODID:-//Mahindians UAE - ECPv6.15.16//NONSGML v1.0//EN
CALSCALE:GREGORIAN
METHOD:PUBLISH
X-ORIGINAL-URL:https://mahindiansuae.org
X-WR-CALDESC:Events for Mahindians UAE
REFRESH-INTERVAL;VALUE=DURATION:PT1H
X-Robots-Tag:noindex
X-PUBLISHED-TTL:PT1H
BEGIN:VTIMEZONE
TZID:Asia/Dubai
BEGIN:STANDARD
TZOFFSETFROM:+0400
TZOFFSETTO:+0400
TZNAME:+04
DTSTART:20250101T000000
END:STANDARD
END:VTIMEZONE
BEGIN:VEVENT
DTSTART;TZID=Asia/Dubai:20260620T090000
DTEND;TZID=Asia/Dubai:20260620T210000
DTSTAMP:20260424T040611
CREATED:20260218T051038Z
LAST-MODIFIED:20260218T051108Z
UID:13666-1781946000-1781989200@mahindiansuae.org
SUMMARY:Peterite Indoor Sports Carnival
DESCRIPTION:The Peterite Indoor Sports Carnival 2026\, organised by the past pupils of St. Peter’s College Old Boys’ Association\, will be held on Saturday\, June 20\, 2026\, in the United Arab Emirates. This fun-filled sporting event will bring together Peterites and their families for a day of friendly indoor competitions\, teamwork\, and fellowship\, celebrating the strong bonds and proud traditions of the Peterite community.
URL:https://mahindiansuae.org/event-calendar/peterite-indoor-sports-carnival-2026/
LOCATION:Sharjah
CATEGORIES:Sport
END:VEVENT
END:VCALENDAR