BEGIN:VCALENDAR
VERSION:2.0
PRODID:-//Mahindians UAE - ECPv6.15.16//NONSGML v1.0//EN
CALSCALE:GREGORIAN
METHOD:PUBLISH
X-ORIGINAL-URL:https://mahindiansuae.org
X-WR-CALDESC:Events for Mahindians UAE
REFRESH-INTERVAL;VALUE=DURATION:PT1H
X-Robots-Tag:noindex
X-PUBLISHED-TTL:PT1H
BEGIN:VTIMEZONE
TZID:Asia/Dubai
BEGIN:STANDARD
TZOFFSETFROM:+0400
TZOFFSETTO:+0400
TZNAME:+04
DTSTART:20250101T000000
END:STANDARD
END:VTIMEZONE
BEGIN:VEVENT
DTSTART;TZID=Asia/Dubai:20260214T090000
DTEND;TZID=Asia/Dubai:20260214T190000
DTSTAMP:20260424T010212
CREATED:20260217T121110Z
LAST-MODIFIED:20260217T121452Z
UID:13634-1771059600-1771095600@mahindiansuae.org
SUMMARY:Joe-Pete Big Match
DESCRIPTION:Past pupils of two of Sri Lanka’s proud Catholic institutions\, St. Joseph’s College and St. Peter’s College\, came together for the thrilling Joe–Pete 9th Encounter – UAE\, held at the Seven District Stadium\, Ajman. Josephians and Peterites filled the grounds with vibrant colours\, passionate cheers\, and unforgettable energy\, celebrating a day of true brotherhood\, sportsmanship\, and the enduring spirit of their historic cricket rivalry.
URL:https://mahindiansuae.org/event-calendar/joe-pete-big-match-2026/
LOCATION:Seven District Stadium\, Ajman\, United Arab Emirates
CATEGORIES:Cricket,Sport
END:VEVENT
BEGIN:VEVENT
DTSTART;TZID=Asia/Dubai:20260215T090000
DTEND;TZID=Asia/Dubai:20260215T190000
DTSTAMP:20260424T010212
CREATED:20260217T115822Z
LAST-MODIFIED:20260217T115822Z
UID:13628-1771146000-1771182000@mahindiansuae.org
SUMMARY:Battle of the Maroons
DESCRIPTION:Past pupils of two of Sri Lanka’s most distinguished brother schools\, Ananda College and Nalanda College\, presently residing in the United Arab Emirates\, will once again unite to stage the annual Battle of the Maroons Cricket Carnival on Sunday\, February 15 2026\, at the Royal Sports Club Cricket Ground\, Ajman\, UAE. This year’s event marks the 16th consecutive edition of this prestigious inter-school sporting encounter.
URL:https://mahindiansuae.org/event-calendar/battle-of-the-maroons-2026/
LOCATION:The Royal Sports Club\, The Royal Sports Club\, Ajman\, United Arab Emirates
CATEGORIES:Cricket,Sport
END:VEVENT
END:VCALENDAR